BEGIN:VCALENDAR
VERSION:2.0
PRODID:-//TSV Pfuhl - Tennisabteilung - ECPv6.15.18//NONSGML v1.0//EN
CALSCALE:GREGORIAN
METHOD:PUBLISH
X-ORIGINAL-URL:https://www.tennis-tsv-pfuhl.de
X-WR-CALDESC:Veranstaltungen für TSV Pfuhl - Tennisabteilung
REFRESH-INTERVAL;VALUE=DURATION:PT1H
X-Robots-Tag:noindex
X-PUBLISHED-TTL:PT1H
BEGIN:VTIMEZONE
TZID:Europe/Berlin
BEGIN:DAYLIGHT
TZOFFSETFROM:+0100
TZOFFSETTO:+0200
TZNAME:CEST
DTSTART:20170326T010000
END:DAYLIGHT
BEGIN:STANDARD
TZOFFSETFROM:+0200
TZOFFSETTO:+0100
TZNAME:CET
DTSTART:20171029T010000
END:STANDARD
BEGIN:DAYLIGHT
TZOFFSETFROM:+0100
TZOFFSETTO:+0200
TZNAME:CEST
DTSTART:20180325T010000
END:DAYLIGHT
BEGIN:STANDARD
TZOFFSETFROM:+0200
TZOFFSETTO:+0100
TZNAME:CET
DTSTART:20181028T010000
END:STANDARD
BEGIN:DAYLIGHT
TZOFFSETFROM:+0100
TZOFFSETTO:+0200
TZNAME:CEST
DTSTART:20190331T010000
END:DAYLIGHT
BEGIN:STANDARD
TZOFFSETFROM:+0200
TZOFFSETTO:+0100
TZNAME:CET
DTSTART:20191027T010000
END:STANDARD
END:VTIMEZONE
BEGIN:VEVENT
DTSTART;VALUE=DATE:20180827
DTEND;VALUE=DATE:20180903
DTSTAMP:20260422T175652
CREATED:20180821T081613Z
LAST-MODIFIED:20180821T081613Z
UID:4229-1535328000-1535932799@www.tennis-tsv-pfuhl.de
SUMMARY:Verschnaufpause für das Vereinslokal
DESCRIPTION:[vc_row][vc_column width=&#8220;2/3&#8243;][vc_column_text css=&#8220;.vc_custom_1530877636015{margin-bottom: 50px !important;}&#8220;] \nAndi und ihr Team gönnen sich eine Auszeit. \n[/vc_column_text][vc_row_inner][vc_column_inner][vc_single_image image=&#8220;4230&#8243; img_size=&#8220;medium&#8220; style=&#8220;vc_box_shadow&#8220; onclick=&#8220;link_image&#8220;][/vc_column_inner][/vc_row_inner][/vc_column][vc_column width=&#8220;1/3&#8243;][/vc_column][/vc_row]
URL:https://www.tennis-tsv-pfuhl.de/vereinskalender/verschnaufpause-fuer-das-vereinslokal/
LOCATION:Tennisabteilung TSV Pfuhl\, Steinhäulesweg 11\, Neu-Ulm\, Bayern\, 89233\, Deutschland
CATEGORIES:Urlaub Tennisheim
END:VEVENT
BEGIN:VEVENT
DTSTART;TZID=Europe/Berlin:20180917T180000
DTEND;TZID=Europe/Berlin:20180917T200000
DTSTAMP:20260422T175652
CREATED:20180323T093301Z
LAST-MODIFIED:20180323T093301Z
UID:3868-1537207200-1537214400@www.tennis-tsv-pfuhl.de
SUMMARY:Montags - Spieltreff
DESCRIPTION:[vc_row][vc_column width=&#8220;2/3&#8243;][vc_column_text]Der Spieltreff findet statt: \nMontags von 18.00 – 20.00 Uhr  \nStart ist am 07.05.2018 \nTreffpunkt bei Petra Platz 6\, eine Anmeldung ist nicht erforderlich\, Bälle sind vorhanden.[/vc_column_text][/vc_column][vc_column width=&#8220;1/3&#8243;][/vc_column][/vc_row][vc_row][vc_column][vc_single_image image=&#8220;3843&#8243; img_size=&#8220;medium&#8220; style=&#8220;vc_box_shadow&#8220; onclick=&#8220;link_image&#8220;][/vc_column][/vc_row]
URL:https://www.tennis-tsv-pfuhl.de/vereinskalender/montags-spieltreff-11/
LOCATION:Tennisabteilung TSV Pfuhl\, Steinhäulesweg 11\, Neu-Ulm\, Bayern\, 89233\, Deutschland
CATEGORIES:Veranstaltung
ORGANIZER;CN="Tennisabteilung TSV Pfuhl":MAILTO:TSVPfuhl.Tennis@t-online.de
END:VEVENT
BEGIN:VEVENT
DTSTART;TZID=Europe/Berlin:20180922T100000
DTEND;TZID=Europe/Berlin:20180922T200000
DTSTAMP:20260422T175652
CREATED:20180724T175510Z
LAST-MODIFIED:20180727T061557Z
UID:4164-1537610400-1537646400@www.tennis-tsv-pfuhl.de
SUMMARY:Mixed - Turnier
DESCRIPTION:[vc_row][vc_column width=&#8220;1/3&#8243;][/vc_column][/vc_row][vc_row][vc_column][vc_column_text]Liebe Tennisfreunde\, \nnachdem bei den Vereinsmeisterschaften die Mixed- Konkurrenz mangels Beteiligung nicht durchgeführt werden konnte\, \nmöchten wir dies am Saisonende nachholen! \nDie Durchführung findet je nach Teilnehmerzahl in Gruppen mit Zeitlimit statt. \nEs wird Mixed und Hobbymixed (für nicht Mannschaftsspieler) durchgeführt. \nBeginnen wollen wir um 10.00 Uhr. \nSicher wird auch noch genug Zeit für einen gemeinsamen geselligen Ausklang im Tennisheim sein. \nBitte meldet euch paarweise an und tragt beide Namen mit LK in die ausgehängte Liste ein. \nWir freuen uns auf rege Beteiligung und einen schönen Tag zum Abschluss der Saison! \nEure Sportwarte[/vc_column_text][/vc_column][/vc_row]
URL:https://www.tennis-tsv-pfuhl.de/vereinskalender/mixed-turnier/
LOCATION:Tennisabteilung TSV Pfuhl\, Steinhäulesweg 11\, Neu-Ulm\, Bayern\, 89233\, Deutschland
CATEGORIES:Turnier
ORGANIZER;CN="Tennisabteilung TSV Pfuhl":MAILTO:TSVPfuhl.Tennis@t-online.de
END:VEVENT
END:VCALENDAR