BEGIN:VCALENDAR
VERSION:2.0
PRODID:-//TSV Pfuhl - Tennisabteilung - ECPv6.15.18//NONSGML v1.0//EN
CALSCALE:GREGORIAN
METHOD:PUBLISH
X-ORIGINAL-URL:https://www.tennis-tsv-pfuhl.de
X-WR-CALDESC:Veranstaltungen für TSV Pfuhl - Tennisabteilung
REFRESH-INTERVAL;VALUE=DURATION:PT1H
X-Robots-Tag:noindex
X-PUBLISHED-TTL:PT1H
BEGIN:VTIMEZONE
TZID:Europe/Berlin
BEGIN:DAYLIGHT
TZOFFSETFROM:+0100
TZOFFSETTO:+0200
TZNAME:CEST
DTSTART:20170326T010000
END:DAYLIGHT
BEGIN:STANDARD
TZOFFSETFROM:+0200
TZOFFSETTO:+0100
TZNAME:CET
DTSTART:20171029T010000
END:STANDARD
BEGIN:DAYLIGHT
TZOFFSETFROM:+0100
TZOFFSETTO:+0200
TZNAME:CEST
DTSTART:20180325T010000
END:DAYLIGHT
BEGIN:STANDARD
TZOFFSETFROM:+0200
TZOFFSETTO:+0100
TZNAME:CET
DTSTART:20181028T010000
END:STANDARD
BEGIN:DAYLIGHT
TZOFFSETFROM:+0100
TZOFFSETTO:+0200
TZNAME:CEST
DTSTART:20190331T010000
END:DAYLIGHT
BEGIN:STANDARD
TZOFFSETFROM:+0200
TZOFFSETTO:+0100
TZNAME:CET
DTSTART:20191027T010000
END:STANDARD
END:VTIMEZONE
BEGIN:VEVENT
DTSTART;VALUE=DATE:20180519
DTEND;VALUE=DATE:20180715
DTSTAMP:20260422T220827
CREATED:20180216T091925Z
LAST-MODIFIED:20180216T091925Z
UID:3611-1526688000-1531612799@www.tennis-tsv-pfuhl.de
SUMMARY:Vereinsmeisterschaften
DESCRIPTION:[vc_row][vc_column width=&#8220;2/3&#8243;][vc_column_text]Achtung! Meldeschluss bis 15.05.2018![/vc_column_text][/vc_column][vc_column width=&#8220;1/3&#8243;][/vc_column][/vc_row]
URL:https://www.tennis-tsv-pfuhl.de/vereinskalender/vereinsmeisterschaften/
LOCATION:Tennisabteilung TSV Pfuhl\, Steinhäulesweg 11\, Neu-Ulm\, Bayern\, 89233\, Deutschland
CATEGORIES:Turnier
ORGANIZER;CN="Tennisabteilung TSV Pfuhl":MAILTO:TSVPfuhl.Tennis@t-online.de
END:VEVENT
BEGIN:VEVENT
DTSTART;VALUE=DATE:20180521
DTEND;VALUE=DATE:20180602
DTSTAMP:20260422T220827
CREATED:20180515T080126Z
LAST-MODIFIED:20180515T080126Z
UID:3981-1526860800-1527897599@www.tennis-tsv-pfuhl.de
SUMMARY:Vereinslokal macht Urlaub
DESCRIPTION:[vc_row][vc_column width=&#8220;2/3&#8243;][vc_column_text css=&#8220;.vc_custom_1521194423891{margin-bottom: 50px !important;}&#8220;] \nAndi und ihr Team gönnen sich eine Auszeit und machen Urlaub. \n[/vc_column_text][vc_row_inner][vc_column_inner][vc_single_image image=&#8220;3983&#8243; img_size=&#8220;medium&#8220; style=&#8220;vc_box_shadow&#8220; onclick=&#8220;link_image&#8220;][/vc_column_inner][/vc_row_inner][/vc_column][vc_column width=&#8220;1/3&#8243;][/vc_column][/vc_row]
URL:https://www.tennis-tsv-pfuhl.de/vereinskalender/vereinslokal-macht-urlaub-2/
LOCATION:Tennisabteilung TSV Pfuhl\, Steinhäulesweg 11\, Neu-Ulm\, Bayern\, 89233\, Deutschland
CATEGORIES:Urlaub Tennisheim
END:VEVENT
BEGIN:VEVENT
DTSTART;TZID=Europe/Berlin:20180602T130000
DTEND;TZID=Europe/Berlin:20180602T200000
DTSTAMP:20260422T220827
CREATED:20180318T141921Z
LAST-MODIFIED:20180318T141921Z
UID:3773-1527944400-1527969600@www.tennis-tsv-pfuhl.de
SUMMARY:Herren 50 - SV Oberostendorf
DESCRIPTION:[vc_row][vc_column width=&#8220;2/3&#8243;][vc_column_text][/vc_column_text][/vc_column][vc_column width=&#8220;1/3&#8243;][/vc_column][/vc_row]
URL:https://www.tennis-tsv-pfuhl.de/vereinskalender/herren-50-sv-oberostendorf/
LOCATION:Tennisabteilung TSV Pfuhl\, Steinhäulesweg 11\, Neu-Ulm\, Bayern\, 89233\, Deutschland
CATEGORIES:Turnier
ORGANIZER;CN="Tennisabteilung TSV Pfuhl":MAILTO:TSVPfuhl.Tennis@t-online.de
END:VEVENT
BEGIN:VEVENT
DTSTART;TZID=Europe/Berlin:20180603T100000
DTEND;TZID=Europe/Berlin:20180603T180000
DTSTAMP:20260422T220827
CREATED:20180318T135833Z
LAST-MODIFIED:20180318T135833Z
UID:3753-1528020000-1528048800@www.tennis-tsv-pfuhl.de
SUMMARY:Herren III - TV Boos
DESCRIPTION:[vc_row][vc_column width=&#8220;2/3&#8243;][vc_column_text][/vc_column_text][/vc_column][vc_column width=&#8220;1/3&#8243;][/vc_column][/vc_row]
URL:https://www.tennis-tsv-pfuhl.de/vereinskalender/herren-iii-tv-boos/
LOCATION:Tennisabteilung TSV Pfuhl\, Steinhäulesweg 11\, Neu-Ulm\, Bayern\, 89233\, Deutschland
CATEGORIES:Turnier
ORGANIZER;CN="Tennisabteilung TSV Pfuhl":MAILTO:TSVPfuhl.Tennis@t-online.de
END:VEVENT
BEGIN:VEVENT
DTSTART;TZID=Europe/Berlin:20180604T180000
DTEND;TZID=Europe/Berlin:20180604T200000
DTSTAMP:20260422T220827
CREATED:20180323T092414Z
LAST-MODIFIED:20180323T092414Z
UID:3852-1528135200-1528142400@www.tennis-tsv-pfuhl.de
SUMMARY:Montags - Spieltreff
DESCRIPTION:[vc_row][vc_column width=&#8220;2/3&#8243;][vc_column_text]Der Spieltreff findet statt: \nMontags von 18.00 – 20.00 Uhr  \nStart ist am 07.05.2018 \nTreffpunkt bei Petra Platz 6\, eine Anmeldung ist nicht erforderlich\, Bälle sind vorhanden.[/vc_column_text][/vc_column][vc_column width=&#8220;1/3&#8243;][/vc_column][/vc_row][vc_row][vc_column][vc_single_image image=&#8220;3843&#8243; img_size=&#8220;medium&#8220; style=&#8220;vc_box_shadow&#8220; onclick=&#8220;link_image&#8220;][/vc_column][/vc_row]
URL:https://www.tennis-tsv-pfuhl.de/vereinskalender/montags-spieltreff-3/
LOCATION:Tennisabteilung TSV Pfuhl\, Steinhäulesweg 11\, Neu-Ulm\, Bayern\, 89233\, Deutschland
CATEGORIES:Veranstaltung
ORGANIZER;CN="Tennisabteilung TSV Pfuhl":MAILTO:TSVPfuhl.Tennis@t-online.de
END:VEVENT
BEGIN:VEVENT
DTSTART;TZID=Europe/Berlin:20180608T150000
DTEND;TZID=Europe/Berlin:20180608T200000
DTSTAMP:20260422T220827
CREATED:20180318T142933Z
LAST-MODIFIED:20180318T143908Z
UID:3784-1528470000-1528488000@www.tennis-tsv-pfuhl.de
SUMMARY:Bambini 12 - TSC 2010 Krumbach II
DESCRIPTION:[vc_row][vc_column width=&#8220;2/3&#8243;][vc_column_text][/vc_column_text][/vc_column][vc_column width=&#8220;1/3&#8243;][/vc_column][/vc_row]
URL:https://www.tennis-tsv-pfuhl.de/vereinskalender/bambini-12-tsc-2010-krumbach-ii/
LOCATION:Tennisabteilung TSV Pfuhl\, Steinhäulesweg 11\, Neu-Ulm\, Bayern\, 89233\, Deutschland
CATEGORIES:Turnier
ORGANIZER;CN="Tennisabteilung TSV Pfuhl":MAILTO:TSVPfuhl.Tennis@t-online.de
END:VEVENT
BEGIN:VEVENT
DTSTART;TZID=Europe/Berlin:20180608T150000
DTEND;TZID=Europe/Berlin:20180608T200000
DTSTAMP:20260422T220827
CREATED:20180318T143702Z
LAST-MODIFIED:20180318T143702Z
UID:3792-1528470000-1528488000@www.tennis-tsv-pfuhl.de
SUMMARY:Bambini 12 II - TC Elchingen II
DESCRIPTION:[vc_row][vc_column width=&#8220;2/3&#8243;][vc_column_text][/vc_column_text][/vc_column][vc_column width=&#8220;1/3&#8243;][/vc_column][/vc_row]
URL:https://www.tennis-tsv-pfuhl.de/vereinskalender/bambini-12-ii-tc-elchingen-ii/
LOCATION:Tennisabteilung TSV Pfuhl\, Steinhäulesweg 11\, Neu-Ulm\, Bayern\, 89233\, Deutschland
CATEGORIES:Turnier
ORGANIZER;CN="Tennisabteilung TSV Pfuhl":MAILTO:TSVPfuhl.Tennis@t-online.de
END:VEVENT
BEGIN:VEVENT
DTSTART;TZID=Europe/Berlin:20180609T090000
DTEND;TZID=Europe/Berlin:20180609T150000
DTSTAMP:20260422T220827
CREATED:20180318T152444Z
LAST-MODIFIED:20180318T152444Z
UID:3826-1528534800-1528556400@www.tennis-tsv-pfuhl.de
SUMMARY:Junioren 18 - TV Memmingen
DESCRIPTION:[vc_row][vc_column width=&#8220;2/3&#8243;][vc_column_text][/vc_column_text][/vc_column][vc_column width=&#8220;1/3&#8243;][/vc_column][/vc_row]
URL:https://www.tennis-tsv-pfuhl.de/vereinskalender/junioren-18-tv-memmingen/
LOCATION:Tennisabteilung TSV Pfuhl\, Steinhäulesweg 11\, Neu-Ulm\, Bayern\, 89233\, Deutschland
CATEGORIES:Turnier
ORGANIZER;CN="Tennisabteilung TSV Pfuhl":MAILTO:TSVPfuhl.Tennis@t-online.de
END:VEVENT
BEGIN:VEVENT
DTSTART;TZID=Europe/Berlin:20180609T090000
DTEND;TZID=Europe/Berlin:20180609T150000
DTSTAMP:20260422T220827
CREATED:20180318T153039Z
LAST-MODIFIED:20180318T153039Z
UID:3832-1528534800-1528556400@www.tennis-tsv-pfuhl.de
SUMMARY:Junioren 18 II - RSV Neu-Ulm Finningen
DESCRIPTION:[vc_row][vc_column width=&#8220;2/3&#8243;][vc_column_text][/vc_column_text][/vc_column][vc_column width=&#8220;1/3&#8243;][/vc_column][/vc_row]
URL:https://www.tennis-tsv-pfuhl.de/vereinskalender/junioren-18-ii-rsv-neu-ulm-finningen/
LOCATION:Tennisabteilung TSV Pfuhl\, Steinhäulesweg 11\, Neu-Ulm\, Bayern\, 89233\, Deutschland
CATEGORIES:Turnier
ORGANIZER;CN="Tennisabteilung TSV Pfuhl":MAILTO:TSVPfuhl.Tennis@t-online.de
END:VEVENT
BEGIN:VEVENT
DTSTART;TZID=Europe/Berlin:20180609T130000
DTEND;TZID=Europe/Berlin:20180609T200000
DTSTAMP:20260422T220827
CREATED:20180318T140544Z
LAST-MODIFIED:20180318T140544Z
UID:3761-1528549200-1528574400@www.tennis-tsv-pfuhl.de
SUMMARY:Herren 30 - TSV Offingen
DESCRIPTION:[vc_row][vc_column width=&#8220;2/3&#8243;][vc_column_text][/vc_column_text][/vc_column][vc_column width=&#8220;1/3&#8243;][/vc_column][/vc_row]
URL:https://www.tennis-tsv-pfuhl.de/vereinskalender/herren-30-tsv-offingen/
LOCATION:Tennisabteilung TSV Pfuhl\, Steinhäulesweg 11\, Neu-Ulm\, Bayern\, 89233\, Deutschland
CATEGORIES:Turnier
ORGANIZER;CN="Tennisabteilung TSV Pfuhl":MAILTO:TSVPfuhl.Tennis@t-online.de
END:VEVENT
BEGIN:VEVENT
DTSTART;TZID=Europe/Berlin:20180609T130000
DTEND;TZID=Europe/Berlin:20180609T200000
DTSTAMP:20260422T220827
CREATED:20180318T141246Z
LAST-MODIFIED:20180318T141246Z
UID:3767-1528549200-1528574400@www.tennis-tsv-pfuhl.de
SUMMARY:Herren 40 - VfL Leipheim
DESCRIPTION:[vc_row][vc_column width=&#8220;2/3&#8243;][vc_column_text][/vc_column_text][/vc_column][vc_column width=&#8220;1/3&#8243;][/vc_column][/vc_row]
URL:https://www.tennis-tsv-pfuhl.de/vereinskalender/herren-40-vfl-leipheim/
LOCATION:Tennisabteilung TSV Pfuhl\, Steinhäulesweg 11\, Neu-Ulm\, Bayern\, 89233\, Deutschland
CATEGORIES:Turnier
ORGANIZER;CN="Tennisabteilung TSV Pfuhl":MAILTO:TSVPfuhl.Tennis@t-online.de
END:VEVENT
BEGIN:VEVENT
DTSTART;TZID=Europe/Berlin:20180610T100000
DTEND;TZID=Europe/Berlin:20180610T180000
DTSTAMP:20260422T220827
CREATED:20180317T135535Z
LAST-MODIFIED:20180317T135535Z
UID:3704-1528624800-1528653600@www.tennis-tsv-pfuhl.de
SUMMARY:Damen - TV Bellenberg
DESCRIPTION:[vc_row][vc_column width=&#8220;2/3&#8243;][vc_column_text][/vc_column_text][/vc_column][vc_column width=&#8220;1/3&#8243;][/vc_column][/vc_row]
URL:https://www.tennis-tsv-pfuhl.de/vereinskalender/damen-tv-bellenberg/
LOCATION:Tennisabteilung TSV Pfuhl\, Steinhäulesweg 11\, Neu-Ulm\, Bayern\, 89233\, Deutschland
CATEGORIES:Turnier
ORGANIZER;CN="Tennisabteilung TSV Pfuhl":MAILTO:TSVPfuhl.Tennis@t-online.de
END:VEVENT
BEGIN:VEVENT
DTSTART;TZID=Europe/Berlin:20180610T100000
DTEND;TZID=Europe/Berlin:20180610T180000
DTSTAMP:20260422T220827
CREATED:20180318T140037Z
LAST-MODIFIED:20180318T140037Z
UID:3755-1528624800-1528653600@www.tennis-tsv-pfuhl.de
SUMMARY:Herren III - TC Nersingen-Leibi
DESCRIPTION:[vc_row][vc_column width=&#8220;2/3&#8243;][vc_column_text][/vc_column_text][/vc_column][vc_column width=&#8220;1/3&#8243;][/vc_column][/vc_row]
URL:https://www.tennis-tsv-pfuhl.de/vereinskalender/herren-iii-tc-nersingen-leibi/
LOCATION:Tennisabteilung TSV Pfuhl\, Steinhäulesweg 11\, Neu-Ulm\, Bayern\, 89233\, Deutschland
CATEGORIES:Turnier
ORGANIZER;CN="Tennisabteilung TSV Pfuhl":MAILTO:TSVPfuhl.Tennis@t-online.de
END:VEVENT
BEGIN:VEVENT
DTSTART;TZID=Europe/Berlin:20180611T180000
DTEND;TZID=Europe/Berlin:20180611T200000
DTSTAMP:20260422T220827
CREATED:20180323T092548Z
LAST-MODIFIED:20180323T092548Z
UID:3854-1528740000-1528747200@www.tennis-tsv-pfuhl.de
SUMMARY:Montags - Spieltreff
DESCRIPTION:[vc_row][vc_column width=&#8220;2/3&#8243;][vc_column_text]Der Spieltreff findet statt: \nMontags von 18.00 – 20.00 Uhr  \nStart ist am 07.05.2018 \nTreffpunkt bei Petra Platz 6\, eine Anmeldung ist nicht erforderlich\, Bälle sind vorhanden.[/vc_column_text][/vc_column][vc_column width=&#8220;1/3&#8243;][/vc_column][/vc_row][vc_row][vc_column][vc_single_image image=&#8220;3843&#8243; img_size=&#8220;medium&#8220; style=&#8220;vc_box_shadow&#8220; onclick=&#8220;link_image&#8220;][/vc_column][/vc_row]
URL:https://www.tennis-tsv-pfuhl.de/vereinskalender/montags-spieltreff-4/
LOCATION:Tennisabteilung TSV Pfuhl\, Steinhäulesweg 11\, Neu-Ulm\, Bayern\, 89233\, Deutschland
CATEGORIES:Veranstaltung
ORGANIZER;CN="Tennisabteilung TSV Pfuhl":MAILTO:TSVPfuhl.Tennis@t-online.de
END:VEVENT
BEGIN:VEVENT
DTSTART;TZID=Europe/Berlin:20180615T150000
DTEND;TZID=Europe/Berlin:20180615T200000
DTSTAMP:20260422T220827
CREATED:20180318T143118Z
LAST-MODIFIED:20180318T143815Z
UID:3786-1529074800-1529092800@www.tennis-tsv-pfuhl.de
SUMMARY:Bambini 12 - TTC Bad Wörishofen
DESCRIPTION:[vc_row][vc_column width=&#8220;2/3&#8243;][vc_column_text][/vc_column_text][/vc_column][vc_column width=&#8220;1/3&#8243;][/vc_column][/vc_row]
URL:https://www.tennis-tsv-pfuhl.de/vereinskalender/bambini-12-ttc-bad-woerishofen/
LOCATION:Tennisabteilung TSV Pfuhl\, Steinhäulesweg 11\, Neu-Ulm\, Bayern\, 89233\, Deutschland
CATEGORIES:Turnier
ORGANIZER;CN="Tennisabteilung TSV Pfuhl":MAILTO:TSVPfuhl.Tennis@t-online.de
END:VEVENT
BEGIN:VEVENT
DTSTART;TZID=Europe/Berlin:20180615T150000
DTEND;TZID=Europe/Berlin:20180615T200000
DTSTAMP:20260422T220827
CREATED:20180318T150926Z
LAST-MODIFIED:20180318T150926Z
UID:3808-1529074800-1529092800@www.tennis-tsv-pfuhl.de
SUMMARY:Knaben 14 II - TV Memmingen
DESCRIPTION:[vc_row][vc_column width=&#8220;2/3&#8243;][vc_column_text][/vc_column_text][/vc_column][vc_column width=&#8220;1/3&#8243;][/vc_column][/vc_row]
URL:https://www.tennis-tsv-pfuhl.de/vereinskalender/knaben-14-ii-tv-memmingen/
LOCATION:Tennisabteilung TSV Pfuhl\, Steinhäulesweg 11\, Neu-Ulm\, Bayern\, 89233\, Deutschland
CATEGORIES:Turnier
ORGANIZER;CN="Tennisabteilung TSV Pfuhl":MAILTO:TSVPfuhl.Tennis@t-online.de
END:VEVENT
BEGIN:VEVENT
DTSTART;TZID=Europe/Berlin:20180616T090000
DTEND;TZID=Europe/Berlin:20180616T150000
DTSTAMP:20260422T220827
CREATED:20180318T151430Z
LAST-MODIFIED:20180318T151430Z
UID:3814-1529139600-1529161200@www.tennis-tsv-pfuhl.de
SUMMARY:Juniorinnen 18 - TC Rot-Weiß Gersthofen
DESCRIPTION:[vc_row][vc_column width=&#8220;2/3&#8243;][vc_column_text][/vc_column_text][/vc_column][vc_column width=&#8220;1/3&#8243;][/vc_column][/vc_row]
URL:https://www.tennis-tsv-pfuhl.de/vereinskalender/juniorinnen-18-tc-rot-weiss-gersthofen/
LOCATION:Tennisabteilung TSV Pfuhl\, Steinhäulesweg 11\, Neu-Ulm\, Bayern\, 89233\, Deutschland
CATEGORIES:Turnier
ORGANIZER;CN="Tennisabteilung TSV Pfuhl":MAILTO:TSVPfuhl.Tennis@t-online.de
END:VEVENT
BEGIN:VEVENT
DTSTART;TZID=Europe/Berlin:20180616T090000
DTEND;TZID=Europe/Berlin:20180616T150000
DTSTAMP:20260422T220827
CREATED:20180318T152031Z
LAST-MODIFIED:20180318T152031Z
UID:3822-1529139600-1529161200@www.tennis-tsv-pfuhl.de
SUMMARY:Juniorinnen 18 II - RSV Wullenstetten II
DESCRIPTION:[vc_row][vc_column width=&#8220;2/3&#8243;][vc_column_text][/vc_column_text][/vc_column][vc_column width=&#8220;1/3&#8243;][/vc_column][/vc_row]
URL:https://www.tennis-tsv-pfuhl.de/vereinskalender/juniorinnen-18-ii-rsv-wullenstetten-ii/
LOCATION:Tennisabteilung TSV Pfuhl\, Steinhäulesweg 11\, Neu-Ulm\, Bayern\, 89233\, Deutschland
CATEGORIES:Turnier
ORGANIZER;CN="Tennisabteilung TSV Pfuhl":MAILTO:TSVPfuhl.Tennis@t-online.de
END:VEVENT
BEGIN:VEVENT
DTSTART;TZID=Europe/Berlin:20180616T130000
DTEND;TZID=Europe/Berlin:20180616T200000
DTSTAMP:20260422T220827
CREATED:20180317T140354Z
LAST-MODIFIED:20180317T140354Z
UID:3714-1529154000-1529179200@www.tennis-tsv-pfuhl.de
SUMMARY:Damen 40 - DJK Augsburg-Pfersee
DESCRIPTION:[vc_row][vc_column width=&#8220;2/3&#8243;][vc_column_text][/vc_column_text][/vc_column][vc_column width=&#8220;1/3&#8243;][/vc_column][/vc_row]
URL:https://www.tennis-tsv-pfuhl.de/vereinskalender/damen-40-djk-augsburg-pfersee/
LOCATION:Tennisabteilung TSV Pfuhl\, Steinhäulesweg 11\, Neu-Ulm\, Bayern\, 89233\, Deutschland
CATEGORIES:Turnier
ORGANIZER;CN="Tennisabteilung TSV Pfuhl":MAILTO:TSVPfuhl.Tennis@t-online.de
END:VEVENT
BEGIN:VEVENT
DTSTART;TZID=Europe/Berlin:20180616T130000
DTEND;TZID=Europe/Berlin:20180616T200000
DTSTAMP:20260422T220827
CREATED:20180318T141450Z
LAST-MODIFIED:20180318T141450Z
UID:3769-1529154000-1529179200@www.tennis-tsv-pfuhl.de
SUMMARY:Herren 40 - TSC 2010 Krumbach
DESCRIPTION:[vc_row][vc_column width=&#8220;2/3&#8243;][vc_column_text][/vc_column_text][/vc_column][vc_column width=&#8220;1/3&#8243;][/vc_column][/vc_row]
URL:https://www.tennis-tsv-pfuhl.de/vereinskalender/herren-40-tsc-2010-krumbach/
LOCATION:Tennisabteilung TSV Pfuhl\, Steinhäulesweg 11\, Neu-Ulm\, Bayern\, 89233\, Deutschland
CATEGORIES:Turnier
ORGANIZER;CN="Tennisabteilung TSV Pfuhl":MAILTO:TSVPfuhl.Tennis@t-online.de
END:VEVENT
BEGIN:VEVENT
DTSTART;TZID=Europe/Berlin:20180617T100000
DTEND;TZID=Europe/Berlin:20180617T180000
DTSTAMP:20260422T220827
CREATED:20180317T135657Z
LAST-MODIFIED:20180317T135657Z
UID:3706-1529229600-1529258400@www.tennis-tsv-pfuhl.de
SUMMARY:Damen - TeG Memmingen am Berg
DESCRIPTION:[vc_row][vc_column width=&#8220;2/3&#8243;][vc_column_text][/vc_column_text][/vc_column][vc_column width=&#8220;1/3&#8243;][/vc_column][/vc_row]
URL:https://www.tennis-tsv-pfuhl.de/vereinskalender/damen-teg-memmingen-am-berg/
LOCATION:Tennisabteilung TSV Pfuhl\, Steinhäulesweg 11\, Neu-Ulm\, Bayern\, 89233\, Deutschland
CATEGORIES:Turnier
ORGANIZER;CN="Tennisabteilung TSV Pfuhl":MAILTO:TSVPfuhl.Tennis@t-online.de
END:VEVENT
BEGIN:VEVENT
DTSTART;TZID=Europe/Berlin:20180617T100000
DTEND;TZID=Europe/Berlin:20180617T180000
DTSTAMP:20260422T220827
CREATED:20180317T141322Z
LAST-MODIFIED:20180317T141322Z
UID:3723-1529229600-1529258400@www.tennis-tsv-pfuhl.de
SUMMARY:Herren - TC Dillingen
DESCRIPTION:[vc_row][vc_column width=&#8220;2/3&#8243;][vc_column_text][/vc_column_text][/vc_column][vc_column width=&#8220;1/3&#8243;][/vc_column][/vc_row]
URL:https://www.tennis-tsv-pfuhl.de/vereinskalender/herren-tc-dillingen/
LOCATION:Tennisabteilung TSV Pfuhl\, Steinhäulesweg 11\, Neu-Ulm\, Bayern\, 89233\, Deutschland
CATEGORIES:Turnier
ORGANIZER;CN="Tennisabteilung TSV Pfuhl":MAILTO:TSVPfuhl.Tennis@t-online.de
END:VEVENT
BEGIN:VEVENT
DTSTART;TZID=Europe/Berlin:20180618T180000
DTEND;TZID=Europe/Berlin:20180618T200000
DTSTAMP:20260422T220827
CREATED:20180323T092654Z
LAST-MODIFIED:20180323T092654Z
UID:3856-1529344800-1529352000@www.tennis-tsv-pfuhl.de
SUMMARY:Montags - Spieltreff
DESCRIPTION:[vc_row][vc_column width=&#8220;2/3&#8243;][vc_column_text]Der Spieltreff findet statt: \nMontags von 18.00 – 20.00 Uhr  \nStart ist am 07.05.2018 \nTreffpunkt bei Petra Platz 6\, eine Anmeldung ist nicht erforderlich\, Bälle sind vorhanden.[/vc_column_text][/vc_column][vc_column width=&#8220;1/3&#8243;][/vc_column][/vc_row][vc_row][vc_column][vc_single_image image=&#8220;3843&#8243; img_size=&#8220;medium&#8220; style=&#8220;vc_box_shadow&#8220; onclick=&#8220;link_image&#8220;][/vc_column][/vc_row]
URL:https://www.tennis-tsv-pfuhl.de/vereinskalender/montags-spieltreff-5/
LOCATION:Tennisabteilung TSV Pfuhl\, Steinhäulesweg 11\, Neu-Ulm\, Bayern\, 89233\, Deutschland
CATEGORIES:Veranstaltung
ORGANIZER;CN="Tennisabteilung TSV Pfuhl":MAILTO:TSVPfuhl.Tennis@t-online.de
END:VEVENT
BEGIN:VEVENT
DTSTART;TZID=Europe/Berlin:20180622T150000
DTEND;TZID=Europe/Berlin:20180622T200000
DTSTAMP:20260422T220827
CREATED:20180318T144122Z
LAST-MODIFIED:20180318T144122Z
UID:3796-1529679600-1529697600@www.tennis-tsv-pfuhl.de
SUMMARY:Bambini 12 II - TS Senden
DESCRIPTION:[vc_row][vc_column width=&#8220;2/3&#8243;][vc_column_text][/vc_column_text][/vc_column][vc_column width=&#8220;1/3&#8243;][/vc_column][/vc_row]
URL:https://www.tennis-tsv-pfuhl.de/vereinskalender/bambini-12-ii-ts-senden/
LOCATION:Tennisabteilung TSV Pfuhl\, Steinhäulesweg 11\, Neu-Ulm\, Bayern\, 89233\, Deutschland
CATEGORIES:Turnier
ORGANIZER;CN="Tennisabteilung TSV Pfuhl":MAILTO:TSVPfuhl.Tennis@t-online.de
END:VEVENT
BEGIN:VEVENT
DTSTART;TZID=Europe/Berlin:20180622T150000
DTEND;TZID=Europe/Berlin:20180622T200000
DTSTAMP:20260422T220827
CREATED:20180318T150441Z
LAST-MODIFIED:20180318T150441Z
UID:3802-1529679600-1529697600@www.tennis-tsv-pfuhl.de
SUMMARY:Knaben 14 - TC Rot-Weiß Oberstdorf
DESCRIPTION:[vc_row][vc_column width=&#8220;2/3&#8243;][vc_column_text][/vc_column_text][/vc_column][vc_column width=&#8220;1/3&#8243;][/vc_column][/vc_row]
URL:https://www.tennis-tsv-pfuhl.de/vereinskalender/knaben-14-tc-rot-weiss-oberstdorf/
LOCATION:Tennisabteilung TSV Pfuhl\, Steinhäulesweg 11\, Neu-Ulm\, Bayern\, 89233\, Deutschland
CATEGORIES:Turnier
ORGANIZER;CN="Tennisabteilung TSV Pfuhl":MAILTO:TSVPfuhl.Tennis@t-online.de
END:VEVENT
BEGIN:VEVENT
DTSTART;TZID=Europe/Berlin:20180623T090000
DTEND;TZID=Europe/Berlin:20180623T150000
DTSTAMP:20260422T220827
CREATED:20180318T153428Z
LAST-MODIFIED:20180318T153428Z
UID:3834-1529744400-1529766000@www.tennis-tsv-pfuhl.de
SUMMARY:Junioren 18 II - RSV Wullenstetten
DESCRIPTION:[vc_row][vc_column width=&#8220;2/3&#8243;][vc_column_text][/vc_column_text][/vc_column][vc_column width=&#8220;1/3&#8243;][/vc_column][/vc_row]
URL:https://www.tennis-tsv-pfuhl.de/vereinskalender/junioren-18-ii-rsv-wullenstetten/
LOCATION:Tennisabteilung TSV Pfuhl\, Steinhäulesweg 11\, Neu-Ulm\, Bayern\, 89233\, Deutschland
CATEGORIES:Turnier
ORGANIZER;CN="Tennisabteilung TSV Pfuhl":MAILTO:TSVPfuhl.Tennis@t-online.de
END:VEVENT
BEGIN:VEVENT
DTSTART;TZID=Europe/Berlin:20180623T090000
DTEND;TZID=Europe/Berlin:20180623T150000
DTSTAMP:20260422T220827
CREATED:20180318T154612Z
LAST-MODIFIED:20180318T154612Z
UID:3836-1529744400-1529766000@www.tennis-tsv-pfuhl.de
SUMMARY:Junioren 18 III - TSC 2010 Krumbach II
DESCRIPTION:[vc_row][vc_column width=&#8220;2/3&#8243;][vc_column_text][/vc_column_text][/vc_column][vc_column width=&#8220;1/3&#8243;][/vc_column][/vc_row]
URL:https://www.tennis-tsv-pfuhl.de/vereinskalender/junioren-18-iii-tsc-2010-krumbach-ii/
LOCATION:Tennisabteilung TSV Pfuhl\, Steinhäulesweg 11\, Neu-Ulm\, Bayern\, 89233\, Deutschland
CATEGORIES:Turnier
ORGANIZER;CN="Tennisabteilung TSV Pfuhl":MAILTO:TSVPfuhl.Tennis@t-online.de
END:VEVENT
BEGIN:VEVENT
DTSTART;TZID=Europe/Berlin:20180623T130000
DTEND;TZID=Europe/Berlin:20180623T200000
DTSTAMP:20260422T220827
CREATED:20180318T142045Z
LAST-MODIFIED:20180318T142045Z
UID:3776-1529758800-1529784000@www.tennis-tsv-pfuhl.de
SUMMARY:Herren 50 - TC Straß
DESCRIPTION:[vc_row][vc_column width=&#8220;2/3&#8243;][vc_column_text][/vc_column_text][/vc_column][vc_column width=&#8220;1/3&#8243;][/vc_column][/vc_row]
URL:https://www.tennis-tsv-pfuhl.de/vereinskalender/herren-50-tc-strass/
LOCATION:Tennisabteilung TSV Pfuhl\, Steinhäulesweg 11\, Neu-Ulm\, Bayern\, 89233\, Deutschland
CATEGORIES:Turnier
ORGANIZER;CN="Tennisabteilung TSV Pfuhl":MAILTO:TSVPfuhl.Tennis@t-online.de
END:VEVENT
BEGIN:VEVENT
DTSTART;TZID=Europe/Berlin:20180623T130000
DTEND;TZID=Europe/Berlin:20180623T200000
DTSTAMP:20260422T220827
CREATED:20180318T142442Z
LAST-MODIFIED:20180318T142442Z
UID:3780-1529758800-1529784000@www.tennis-tsv-pfuhl.de
SUMMARY:Herren 60 - TC Rot-Weiß Krumbach
DESCRIPTION:[vc_row][vc_column width=&#8220;2/3&#8243;][vc_column_text][/vc_column_text][/vc_column][vc_column width=&#8220;1/3&#8243;][/vc_column][/vc_row]
URL:https://www.tennis-tsv-pfuhl.de/vereinskalender/herren-60-tc-rot-weiss-krumbach/
LOCATION:Tennisabteilung TSV Pfuhl\, Steinhäulesweg 11\, Neu-Ulm\, Bayern\, 89233\, Deutschland
CATEGORIES:Turnier
ORGANIZER;CN="Tennisabteilung TSV Pfuhl":MAILTO:TSVPfuhl.Tennis@t-online.de
END:VEVENT
BEGIN:VEVENT
DTSTART;TZID=Europe/Berlin:20180624T100000
DTEND;TZID=Europe/Berlin:20180624T180000
DTSTAMP:20260422T220827
CREATED:20180317T141503Z
LAST-MODIFIED:20180317T141733Z
UID:3725-1529834400-1529863200@www.tennis-tsv-pfuhl.de
SUMMARY:Herren - TC Augsburg Schießgraben II
DESCRIPTION:[vc_row][vc_column width=&#8220;2/3&#8243;][vc_column_text][/vc_column_text][/vc_column][vc_column width=&#8220;1/3&#8243;][/vc_column][/vc_row]
URL:https://www.tennis-tsv-pfuhl.de/vereinskalender/herren-tc-augsburg-schiessgraben-ii/
LOCATION:Tennisabteilung TSV Pfuhl\, Steinhäulesweg 11\, Neu-Ulm\, Bayern\, 89233\, Deutschland
CATEGORIES:Turnier
ORGANIZER;CN="Tennisabteilung TSV Pfuhl":MAILTO:TSVPfuhl.Tennis@t-online.de
END:VEVENT
END:VCALENDAR