BEGIN:VCALENDAR
VERSION:2.0
PRODID:-//TSV Pfuhl - Tennisabteilung - ECPv6.15.18//NONSGML v1.0//EN
CALSCALE:GREGORIAN
METHOD:PUBLISH
X-ORIGINAL-URL:https://www.tennis-tsv-pfuhl.de
X-WR-CALDESC:Veranstaltungen für TSV Pfuhl - Tennisabteilung
REFRESH-INTERVAL;VALUE=DURATION:PT1H
X-Robots-Tag:noindex
X-PUBLISHED-TTL:PT1H
BEGIN:VTIMEZONE
TZID:Europe/Berlin
BEGIN:DAYLIGHT
TZOFFSETFROM:+0100
TZOFFSETTO:+0200
TZNAME:CEST
DTSTART:20170326T010000
END:DAYLIGHT
BEGIN:STANDARD
TZOFFSETFROM:+0200
TZOFFSETTO:+0100
TZNAME:CET
DTSTART:20171029T010000
END:STANDARD
BEGIN:DAYLIGHT
TZOFFSETFROM:+0100
TZOFFSETTO:+0200
TZNAME:CEST
DTSTART:20180325T010000
END:DAYLIGHT
BEGIN:STANDARD
TZOFFSETFROM:+0200
TZOFFSETTO:+0100
TZNAME:CET
DTSTART:20181028T010000
END:STANDARD
BEGIN:DAYLIGHT
TZOFFSETFROM:+0100
TZOFFSETTO:+0200
TZNAME:CEST
DTSTART:20190331T010000
END:DAYLIGHT
BEGIN:STANDARD
TZOFFSETFROM:+0200
TZOFFSETTO:+0100
TZNAME:CET
DTSTART:20191027T010000
END:STANDARD
END:VTIMEZONE
BEGIN:VEVENT
DTSTART;TZID=Europe/Berlin:20180504T150000
DTEND;TZID=Europe/Berlin:20180504T200000
DTSTAMP:20260422T233233
CREATED:20180318T143507Z
LAST-MODIFIED:20180318T143507Z
UID:3790-1525446000-1525464000@www.tennis-tsv-pfuhl.de
SUMMARY:Bambini 12 II - TS Weißenhorn
DESCRIPTION:[vc_row][vc_column width=&#8220;2/3&#8243;][vc_column_text][/vc_column_text][/vc_column][vc_column width=&#8220;1/3&#8243;][/vc_column][/vc_row]
URL:https://www.tennis-tsv-pfuhl.de/vereinskalender/bambini-12-ii-ts-weissenhorn/
LOCATION:Tennisabteilung TSV Pfuhl\, Steinhäulesweg 11\, Neu-Ulm\, Bayern\, 89233\, Deutschland
CATEGORIES:Turnier
ORGANIZER;CN="Tennisabteilung TSV Pfuhl":MAILTO:TSVPfuhl.Tennis@t-online.de
END:VEVENT
BEGIN:VEVENT
DTSTART;TZID=Europe/Berlin:20180505T090000
DTEND;TZID=Europe/Berlin:20180505T150000
DTSTAMP:20260422T233233
CREATED:20180318T151714Z
LAST-MODIFIED:20180318T151714Z
UID:3818-1525510800-1525532400@www.tennis-tsv-pfuhl.de
SUMMARY:Juniorinnen 18 II - TC Illertissen
DESCRIPTION:[vc_row][vc_column width=&#8220;2/3&#8243;][vc_column_text][/vc_column_text][/vc_column][vc_column width=&#8220;1/3&#8243;][/vc_column][/vc_row]
URL:https://www.tennis-tsv-pfuhl.de/vereinskalender/juniorinnen-18-ii-tc-illertissen/
LOCATION:Tennisabteilung TSV Pfuhl\, Steinhäulesweg 11\, Neu-Ulm\, Bayern\, 89233\, Deutschland
CATEGORIES:Turnier
ORGANIZER;CN="Tennisabteilung TSV Pfuhl":MAILTO:TSVPfuhl.Tennis@t-online.de
END:VEVENT
BEGIN:VEVENT
DTSTART;TZID=Europe/Berlin:20180505T090000
DTEND;TZID=Europe/Berlin:20180505T150000
DTSTAMP:20260422T233233
CREATED:20180318T152313Z
LAST-MODIFIED:20180318T152313Z
UID:3824-1525510800-1525532400@www.tennis-tsv-pfuhl.de
SUMMARY:Junioren 18 - TC Memmingen
DESCRIPTION:[vc_row][vc_column width=&#8220;2/3&#8243;][vc_column_text][/vc_column_text][/vc_column][vc_column width=&#8220;1/3&#8243;][/vc_column][/vc_row]
URL:https://www.tennis-tsv-pfuhl.de/vereinskalender/junioren-18-tc-memmingen/
LOCATION:Tennisabteilung TSV Pfuhl\, Steinhäulesweg 11\, Neu-Ulm\, Bayern\, 89233\, Deutschland
CATEGORIES:Turnier
ORGANIZER;CN="Tennisabteilung TSV Pfuhl":MAILTO:TSVPfuhl.Tennis@t-online.de
END:VEVENT
BEGIN:VEVENT
DTSTART;TZID=Europe/Berlin:20180505T130000
DTEND;TZID=Europe/Berlin:20180505T200000
DTSTAMP:20260422T233233
CREATED:20180318T141118Z
LAST-MODIFIED:20180318T141118Z
UID:3765-1525525200-1525550400@www.tennis-tsv-pfuhl.de
SUMMARY:Herren 40 - FC Heimertingen
DESCRIPTION:[vc_row][vc_column width=&#8220;2/3&#8243;][vc_column_text][/vc_column_text][/vc_column][vc_column width=&#8220;1/3&#8243;][/vc_column][/vc_row]
URL:https://www.tennis-tsv-pfuhl.de/vereinskalender/herren-40-fc-heimertingen/
LOCATION:Tennisabteilung TSV Pfuhl\, Steinhäulesweg 11\, Neu-Ulm\, Bayern\, 89233\, Deutschland
CATEGORIES:Turnier
ORGANIZER;CN="Tennisabteilung TSV Pfuhl":MAILTO:TSVPfuhl.Tennis@t-online.de
END:VEVENT
BEGIN:VEVENT
DTSTART;TZID=Europe/Berlin:20180505T130000
DTEND;TZID=Europe/Berlin:20180505T200000
DTSTAMP:20260422T233233
CREATED:20180318T142307Z
LAST-MODIFIED:20180318T142307Z
UID:3778-1525525200-1525550400@www.tennis-tsv-pfuhl.de
SUMMARY:Herren 60 - DJK Augsburg Pfersee
DESCRIPTION:[vc_row][vc_column width=&#8220;2/3&#8243;][vc_column_text][/vc_column_text][/vc_column][vc_column width=&#8220;1/3&#8243;][/vc_column][/vc_row]
URL:https://www.tennis-tsv-pfuhl.de/vereinskalender/herren-60-djk-augsburg-pfersee/
LOCATION:Tennisabteilung TSV Pfuhl\, Steinhäulesweg 11\, Neu-Ulm\, Bayern\, 89233\, Deutschland
CATEGORIES:Turnier
ORGANIZER;CN="Tennisabteilung TSV Pfuhl":MAILTO:TSVPfuhl.Tennis@t-online.de
END:VEVENT
BEGIN:VEVENT
DTSTART;TZID=Europe/Berlin:20180506T100000
DTEND;TZID=Europe/Berlin:20180506T180000
DTSTAMP:20260422T233233
CREATED:20180317T135907Z
LAST-MODIFIED:20180317T135907Z
UID:3708-1525600800-1525629600@www.tennis-tsv-pfuhl.de
SUMMARY:Damen II - Neu-Ulmer TK Blau-Weiss II
DESCRIPTION:[vc_row][vc_column width=&#8220;2/3&#8243;][vc_column_text][/vc_column_text][/vc_column][vc_column width=&#8220;1/3&#8243;][/vc_column][/vc_row]
URL:https://www.tennis-tsv-pfuhl.de/vereinskalender/damen-ii-neu-ulmer-tk-blau-weiss-ii/
LOCATION:Tennisabteilung TSV Pfuhl\, Steinhäulesweg 11\, Neu-Ulm\, Bayern\, 89233\, Deutschland
CATEGORIES:Turnier
ORGANIZER;CN="Tennisabteilung TSV Pfuhl":MAILTO:TSVPfuhl.Tennis@t-online.de
END:VEVENT
BEGIN:VEVENT
DTSTART;TZID=Europe/Berlin:20180507T180000
DTEND;TZID=Europe/Berlin:20180507T200000
DTSTAMP:20260422T233233
CREATED:20180318T161440Z
LAST-MODIFIED:20180318T161440Z
UID:3842-1525716000-1525723200@www.tennis-tsv-pfuhl.de
SUMMARY:Montags - Spieltreff
DESCRIPTION:[vc_row][vc_column width=&#8220;2/3&#8243;][vc_column_text]Der Spieltreff findet statt: \nMontags von 18.00 – 20.00 Uhr  \nStart ist am 07.05.2018 \nTreffpunkt bei Petra Platz 6\, eine Anmeldung ist nicht erforderlich\, Bälle sind vorhanden.[/vc_column_text][/vc_column][vc_column width=&#8220;1/3&#8243;][/vc_column][/vc_row][vc_row][vc_column][vc_single_image image=&#8220;3843&#8243; img_size=&#8220;medium&#8220; style=&#8220;vc_box_shadow&#8220; onclick=&#8220;link_image&#8220;][/vc_column][/vc_row]
URL:https://www.tennis-tsv-pfuhl.de/vereinskalender/montags-spieltreff/
LOCATION:Tennisabteilung TSV Pfuhl\, Steinhäulesweg 11\, Neu-Ulm\, Bayern\, 89233\, Deutschland
CATEGORIES:Veranstaltung
ORGANIZER;CN="Tennisabteilung TSV Pfuhl":MAILTO:TSVPfuhl.Tennis@t-online.de
END:VEVENT
BEGIN:VEVENT
DTSTART;TZID=Europe/Berlin:20180510T100000
DTEND;TZID=Europe/Berlin:20180510T180000
DTSTAMP:20260422T233233
CREATED:20180317T135354Z
LAST-MODIFIED:20180317T135354Z
UID:3701-1525946400-1525975200@www.tennis-tsv-pfuhl.de
SUMMARY:Damen - SC Vöhringen
DESCRIPTION:[vc_row][vc_column width=&#8220;2/3&#8243;][vc_column_text][/vc_column_text][/vc_column][vc_column width=&#8220;1/3&#8243;][/vc_column][/vc_row]
URL:https://www.tennis-tsv-pfuhl.de/vereinskalender/damen-sc-voehringen/
LOCATION:Tennisabteilung TSV Pfuhl\, Steinhäulesweg 11\, Neu-Ulm\, Bayern\, 89233\, Deutschland
CATEGORIES:Turnier
ORGANIZER;CN="Tennisabteilung TSV Pfuhl":MAILTO:TSVPfuhl.Tennis@t-online.de
END:VEVENT
BEGIN:VEVENT
DTSTART;TZID=Europe/Berlin:20180510T100000
DTEND;TZID=Europe/Berlin:20180510T180000
DTSTAMP:20260422T233233
CREATED:20180317T141947Z
LAST-MODIFIED:20180317T141947Z
UID:3730-1525946400-1525975200@www.tennis-tsv-pfuhl.de
SUMMARY:Herren II - TTC Bad Wörishofen II
DESCRIPTION:[vc_row][vc_column width=&#8220;2/3&#8243;][vc_column_text][/vc_column_text][/vc_column][vc_column width=&#8220;1/3&#8243;][/vc_column][/vc_row]
URL:https://www.tennis-tsv-pfuhl.de/vereinskalender/herren-ii-ttc-bad-woerishofen-ii/
LOCATION:Tennisabteilung TSV Pfuhl\, Steinhäulesweg 11\, Neu-Ulm\, Bayern\, 89233\, Deutschland
CATEGORIES:Turnier
ORGANIZER;CN="Tennisabteilung TSV Pfuhl":MAILTO:TSVPfuhl.Tennis@t-online.de
END:VEVENT
BEGIN:VEVENT
DTSTART;TZID=Europe/Berlin:20180511T150000
DTEND;TZID=Europe/Berlin:20180511T200000
DTSTAMP:20260422T233233
CREATED:20180318T144538Z
LAST-MODIFIED:20180318T144538Z
UID:3800-1526050800-1526068800@www.tennis-tsv-pfuhl.de
SUMMARY:Knaben 14 - TC Lindau II
DESCRIPTION:[vc_row][vc_column width=&#8220;2/3&#8243;][vc_column_text][/vc_column_text][/vc_column][vc_column width=&#8220;1/3&#8243;][/vc_column][/vc_row]
URL:https://www.tennis-tsv-pfuhl.de/vereinskalender/knaben-14-tc-lindau-ii/
LOCATION:Tennisabteilung TSV Pfuhl\, Steinhäulesweg 11\, Neu-Ulm\, Bayern\, 89233\, Deutschland
CATEGORIES:Turnier
ORGANIZER;CN="Tennisabteilung TSV Pfuhl":MAILTO:TSVPfuhl.Tennis@t-online.de
END:VEVENT
BEGIN:VEVENT
DTSTART;TZID=Europe/Berlin:20180511T150000
DTEND;TZID=Europe/Berlin:20180511T200000
DTSTAMP:20260422T233233
CREATED:20180318T150813Z
LAST-MODIFIED:20180318T150813Z
UID:3806-1526050800-1526068800@www.tennis-tsv-pfuhl.de
SUMMARY:Knaben 14 II - Neu-Ulmer TK Blau-Weiß
DESCRIPTION:[vc_row][vc_column width=&#8220;2/3&#8243;][vc_column_text][/vc_column_text][/vc_column][vc_column width=&#8220;1/3&#8243;][/vc_column][/vc_row]
URL:https://www.tennis-tsv-pfuhl.de/vereinskalender/knaben-14-ii-neu-ulmer-tk-blau-weiss/
LOCATION:Tennisabteilung TSV Pfuhl\, Steinhäulesweg 11\, Neu-Ulm\, Bayern\, 89233\, Deutschland
CATEGORIES:Turnier
ORGANIZER;CN="Tennisabteilung TSV Pfuhl":MAILTO:TSVPfuhl.Tennis@t-online.de
END:VEVENT
BEGIN:VEVENT
DTSTART;TZID=Europe/Berlin:20180512T090000
DTEND;TZID=Europe/Berlin:20180512T150000
DTSTAMP:20260422T233233
CREATED:20180318T151312Z
LAST-MODIFIED:20180318T151312Z
UID:3812-1526115600-1526137200@www.tennis-tsv-pfuhl.de
SUMMARY:Juniorinnen 18 - TC Rot-Weiß Nördlingen
DESCRIPTION:[vc_row][vc_column width=&#8220;2/3&#8243;][vc_column_text][/vc_column_text][/vc_column][vc_column width=&#8220;1/3&#8243;][/vc_column][/vc_row]
URL:https://www.tennis-tsv-pfuhl.de/vereinskalender/juniorinnen-18-tc-rot-weiss-noerdlingen/
LOCATION:Tennisabteilung TSV Pfuhl\, Steinhäulesweg 11\, Neu-Ulm\, Bayern\, 89233\, Deutschland
CATEGORIES:Turnier
ORGANIZER;CN="Tennisabteilung TSV Pfuhl":MAILTO:TSVPfuhl.Tennis@t-online.de
END:VEVENT
BEGIN:VEVENT
DTSTART;TZID=Europe/Berlin:20180512T090000
DTEND;TZID=Europe/Berlin:20180512T150000
DTSTAMP:20260422T233233
CREATED:20180318T151837Z
LAST-MODIFIED:20180318T151837Z
UID:3820-1526115600-1526137200@www.tennis-tsv-pfuhl.de
SUMMARY:Juniorinnen 18 II - FC Burlafingen
DESCRIPTION:[vc_row][vc_column width=&#8220;2/3&#8243;][vc_column_text][/vc_column_text][/vc_column][vc_column width=&#8220;1/3&#8243;][/vc_column][/vc_row]
URL:https://www.tennis-tsv-pfuhl.de/vereinskalender/juniorinnen-18-ii-fc-burlafingen/
LOCATION:Tennisabteilung TSV Pfuhl\, Steinhäulesweg 11\, Neu-Ulm\, Bayern\, 89233\, Deutschland
CATEGORIES:Turnier
ORGANIZER;CN="Tennisabteilung TSV Pfuhl":MAILTO:TSVPfuhl.Tennis@t-online.de
END:VEVENT
BEGIN:VEVENT
DTSTART;TZID=Europe/Berlin:20180512T090000
DTEND;TZID=Europe/Berlin:20180512T150000
DTSTAMP:20260422T233233
CREATED:20180318T152817Z
LAST-MODIFIED:20180318T152817Z
UID:3830-1526115600-1526137200@www.tennis-tsv-pfuhl.de
SUMMARY:Junioren 18 II - TC Illertissen
DESCRIPTION:[vc_row][vc_column width=&#8220;2/3&#8243;][vc_column_text][/vc_column_text][/vc_column][vc_column width=&#8220;1/3&#8243;][/vc_column][/vc_row]
URL:https://www.tennis-tsv-pfuhl.de/vereinskalender/junioren-18-ii-tc-illertissen/
LOCATION:Tennisabteilung TSV Pfuhl\, Steinhäulesweg 11\, Neu-Ulm\, Bayern\, 89233\, Deutschland
CATEGORIES:Turnier
ORGANIZER;CN="Tennisabteilung TSV Pfuhl":MAILTO:TSVPfuhl.Tennis@t-online.de
END:VEVENT
BEGIN:VEVENT
DTSTART;TZID=Europe/Berlin:20180512T130000
DTEND;TZID=Europe/Berlin:20180512T200000
DTSTAMP:20260422T233233
CREATED:20180318T140346Z
LAST-MODIFIED:20180318T140346Z
UID:3759-1526130000-1526155200@www.tennis-tsv-pfuhl.de
SUMMARY:Herren 30 - TC Reisensburg
DESCRIPTION:[vc_row][vc_column width=&#8220;2/3&#8243;][vc_column_text][/vc_column_text][/vc_column][vc_column width=&#8220;1/3&#8243;][/vc_column][/vc_row]
URL:https://www.tennis-tsv-pfuhl.de/vereinskalender/herren-30-tc-reisensburg/
LOCATION:Tennisabteilung TSV Pfuhl\, Steinhäulesweg 11\, Neu-Ulm\, Bayern\, 89233\, Deutschland
CATEGORIES:Turnier
ORGANIZER;CN="Tennisabteilung TSV Pfuhl":MAILTO:TSVPfuhl.Tennis@t-online.de
END:VEVENT
BEGIN:VEVENT
DTSTART;TZID=Europe/Berlin:20180512T130000
DTEND;TZID=Europe/Berlin:20180512T200000
DTSTAMP:20260422T233233
CREATED:20180318T141644Z
LAST-MODIFIED:20180318T141646Z
UID:3771-1526130000-1526155200@www.tennis-tsv-pfuhl.de
SUMMARY:Herren 50 - Neu-Ulmer TK Blau-Weiss
DESCRIPTION:[vc_row][vc_column width=&#8220;2/3&#8243;][vc_column_text][/vc_column_text][/vc_column][vc_column width=&#8220;1/3&#8243;][/vc_column][/vc_row]
URL:https://www.tennis-tsv-pfuhl.de/vereinskalender/herren-50-neu-ulmer-tk-blau-weiss/
LOCATION:Tennisabteilung TSV Pfuhl\, Steinhäulesweg 11\, Neu-Ulm\, Bayern\, 89233\, Deutschland
CATEGORIES:Turnier
ORGANIZER;CN="Tennisabteilung TSV Pfuhl":MAILTO:TSVPfuhl.Tennis@t-online.de
END:VEVENT
BEGIN:VEVENT
DTSTART;TZID=Europe/Berlin:20180513T100000
DTEND;TZID=Europe/Berlin:20180513T180000
DTSTAMP:20260422T233233
CREATED:20180317T140038Z
LAST-MODIFIED:20180317T140038Z
UID:3710-1526205600-1526234400@www.tennis-tsv-pfuhl.de
SUMMARY:Damen II - TSV Balzhausen II
DESCRIPTION:[vc_row][vc_column width=&#8220;2/3&#8243;][vc_column_text][/vc_column_text][/vc_column][vc_column width=&#8220;1/3&#8243;][/vc_column][/vc_row]
URL:https://www.tennis-tsv-pfuhl.de/vereinskalender/damen-ii-tsv-balzhausen-ii/
LOCATION:Tennisabteilung TSV Pfuhl\, Steinhäulesweg 11\, Neu-Ulm\, Bayern\, 89233\, Deutschland
CATEGORIES:Turnier
ORGANIZER;CN="Tennisabteilung TSV Pfuhl":MAILTO:TSVPfuhl.Tennis@t-online.de
END:VEVENT
BEGIN:VEVENT
DTSTART;TZID=Europe/Berlin:20180514T180000
DTEND;TZID=Europe/Berlin:20180514T200000
DTSTAMP:20260422T233233
CREATED:20180323T092147Z
LAST-MODIFIED:20180323T092147Z
UID:3850-1526320800-1526328000@www.tennis-tsv-pfuhl.de
SUMMARY:Montags - Spieltreff
DESCRIPTION:[vc_row][vc_column width=&#8220;2/3&#8243;][vc_column_text]Der Spieltreff findet statt: \nMontags von 18.00 – 20.00 Uhr  \nStart ist am 07.05.2018 \nTreffpunkt bei Petra Platz 6\, eine Anmeldung ist nicht erforderlich\, Bälle sind vorhanden.[/vc_column_text][/vc_column][vc_column width=&#8220;1/3&#8243;][/vc_column][/vc_row][vc_row][vc_column][vc_single_image image=&#8220;3843&#8243; img_size=&#8220;medium&#8220; style=&#8220;vc_box_shadow&#8220; onclick=&#8220;link_image&#8220;][/vc_column][/vc_row]
URL:https://www.tennis-tsv-pfuhl.de/vereinskalender/montags-spieltreff-2/
LOCATION:Tennisabteilung TSV Pfuhl\, Steinhäulesweg 11\, Neu-Ulm\, Bayern\, 89233\, Deutschland
CATEGORIES:Veranstaltung
ORGANIZER;CN="Tennisabteilung TSV Pfuhl":MAILTO:TSVPfuhl.Tennis@t-online.de
END:VEVENT
BEGIN:VEVENT
DTSTART;VALUE=DATE:20180519
DTEND;VALUE=DATE:20180715
DTSTAMP:20260422T233233
CREATED:20180216T091925Z
LAST-MODIFIED:20180216T091925Z
UID:3611-1526688000-1531612799@www.tennis-tsv-pfuhl.de
SUMMARY:Vereinsmeisterschaften
DESCRIPTION:[vc_row][vc_column width=&#8220;2/3&#8243;][vc_column_text]Achtung! Meldeschluss bis 15.05.2018![/vc_column_text][/vc_column][vc_column width=&#8220;1/3&#8243;][/vc_column][/vc_row]
URL:https://www.tennis-tsv-pfuhl.de/vereinskalender/vereinsmeisterschaften/
LOCATION:Tennisabteilung TSV Pfuhl\, Steinhäulesweg 11\, Neu-Ulm\, Bayern\, 89233\, Deutschland
CATEGORIES:Turnier
ORGANIZER;CN="Tennisabteilung TSV Pfuhl":MAILTO:TSVPfuhl.Tennis@t-online.de
END:VEVENT
BEGIN:VEVENT
DTSTART;VALUE=DATE:20180521
DTEND;VALUE=DATE:20180602
DTSTAMP:20260422T233233
CREATED:20180515T080126Z
LAST-MODIFIED:20180515T080126Z
UID:3981-1526860800-1527897599@www.tennis-tsv-pfuhl.de
SUMMARY:Vereinslokal macht Urlaub
DESCRIPTION:[vc_row][vc_column width=&#8220;2/3&#8243;][vc_column_text css=&#8220;.vc_custom_1521194423891{margin-bottom: 50px !important;}&#8220;] \nAndi und ihr Team gönnen sich eine Auszeit und machen Urlaub. \n[/vc_column_text][vc_row_inner][vc_column_inner][vc_single_image image=&#8220;3983&#8243; img_size=&#8220;medium&#8220; style=&#8220;vc_box_shadow&#8220; onclick=&#8220;link_image&#8220;][/vc_column_inner][/vc_row_inner][/vc_column][vc_column width=&#8220;1/3&#8243;][/vc_column][/vc_row]
URL:https://www.tennis-tsv-pfuhl.de/vereinskalender/vereinslokal-macht-urlaub-2/
LOCATION:Tennisabteilung TSV Pfuhl\, Steinhäulesweg 11\, Neu-Ulm\, Bayern\, 89233\, Deutschland
CATEGORIES:Urlaub Tennisheim
END:VEVENT
BEGIN:VEVENT
DTSTART;VALUE=DATE:20180525
DTEND;VALUE=DATE:20180528
DTSTAMP:20260422T233233
CREATED:20180216T090628Z
LAST-MODIFIED:20180424T054524Z
UID:3609-1527206400-1527465599@www.tennis-tsv-pfuhl.de
SUMMARY:2. Pfuhler Schwabencup
DESCRIPTION:[vc_row][vc_column width=&#8220;2/3&#8243;][vc_column_text] \nAusschreibung 2. Pfuhler Schwaben Cup[/vc_column_text][/vc_column][vc_column width=&#8220;1/3&#8243;][/vc_column][/vc_row]
URL:https://www.tennis-tsv-pfuhl.de/vereinskalender/2-pfuhler-schwabencup/
LOCATION:Tennisabteilung TSV Pfuhl\, Steinhäulesweg 11\, Neu-Ulm\, Bayern\, 89233\, Deutschland
CATEGORIES:Turnier
ORGANIZER;CN="Tennisabteilung TSV Pfuhl":MAILTO:TSVPfuhl.Tennis@t-online.de
END:VEVENT
END:VCALENDAR