BEGIN:VCALENDAR
VERSION:2.0
PRODID:-//TSV Pfuhl - Tennisabteilung - ECPv6.15.18//NONSGML v1.0//EN
CALSCALE:GREGORIAN
METHOD:PUBLISH
X-ORIGINAL-URL:https://www.tennis-tsv-pfuhl.de
X-WR-CALDESC:Veranstaltungen für TSV Pfuhl - Tennisabteilung
REFRESH-INTERVAL;VALUE=DURATION:PT1H
X-Robots-Tag:noindex
X-PUBLISHED-TTL:PT1H
BEGIN:VTIMEZONE
TZID:Europe/Berlin
BEGIN:DAYLIGHT
TZOFFSETFROM:+0100
TZOFFSETTO:+0200
TZNAME:CEST
DTSTART:20170326T010000
END:DAYLIGHT
BEGIN:STANDARD
TZOFFSETFROM:+0200
TZOFFSETTO:+0100
TZNAME:CET
DTSTART:20171029T010000
END:STANDARD
BEGIN:DAYLIGHT
TZOFFSETFROM:+0100
TZOFFSETTO:+0200
TZNAME:CEST
DTSTART:20180325T010000
END:DAYLIGHT
BEGIN:STANDARD
TZOFFSETFROM:+0200
TZOFFSETTO:+0100
TZNAME:CET
DTSTART:20181028T010000
END:STANDARD
BEGIN:DAYLIGHT
TZOFFSETFROM:+0100
TZOFFSETTO:+0200
TZNAME:CEST
DTSTART:20190331T010000
END:DAYLIGHT
BEGIN:STANDARD
TZOFFSETFROM:+0200
TZOFFSETTO:+0100
TZNAME:CET
DTSTART:20191027T010000
END:STANDARD
END:VTIMEZONE
BEGIN:VEVENT
DTSTART;TZID=Europe/Berlin:20181021T100000
DTEND;TZID=Europe/Berlin:20181021T210000
DTSTAMP:20260422T181021
CREATED:20180919T155843Z
LAST-MODIFIED:20181015T052755Z
UID:4234-1540116000-1540155600@www.tennis-tsv-pfuhl.de
SUMMARY:Wandertag Kuhberg
DESCRIPTION:
URL:https://www.tennis-tsv-pfuhl.de/vereinskalender/wandertag-kuhberg/
LOCATION:Tennisabteilung TSV Pfuhl\, Steinhäulesweg 11\, Neu-Ulm\, Bayern\, 89233\, Deutschland
CATEGORIES:Ausflug
ORGANIZER;CN="Tennisabteilung TSV Pfuhl":MAILTO:TSVPfuhl.Tennis@t-online.de
END:VEVENT
END:VCALENDAR