BEGIN:VCALENDAR
VERSION:2.0
PRODID:-//TSV Pfuhl - Tennisabteilung - ECPv6.15.18//NONSGML v1.0//EN
CALSCALE:GREGORIAN
METHOD:PUBLISH
X-ORIGINAL-URL:https://www.tennis-tsv-pfuhl.de
X-WR-CALDESC:Veranstaltungen für TSV Pfuhl - Tennisabteilung
REFRESH-INTERVAL;VALUE=DURATION:PT1H
X-Robots-Tag:noindex
X-PUBLISHED-TTL:PT1H
BEGIN:VTIMEZONE
TZID:Europe/Berlin
BEGIN:DAYLIGHT
TZOFFSETFROM:+0100
TZOFFSETTO:+0200
TZNAME:CEST
DTSTART:20170326T010000
END:DAYLIGHT
BEGIN:STANDARD
TZOFFSETFROM:+0200
TZOFFSETTO:+0100
TZNAME:CET
DTSTART:20171029T010000
END:STANDARD
BEGIN:DAYLIGHT
TZOFFSETFROM:+0100
TZOFFSETTO:+0200
TZNAME:CEST
DTSTART:20180325T010000
END:DAYLIGHT
BEGIN:STANDARD
TZOFFSETFROM:+0200
TZOFFSETTO:+0100
TZNAME:CET
DTSTART:20181028T010000
END:STANDARD
BEGIN:DAYLIGHT
TZOFFSETFROM:+0100
TZOFFSETTO:+0200
TZNAME:CEST
DTSTART:20190331T010000
END:DAYLIGHT
BEGIN:STANDARD
TZOFFSETFROM:+0200
TZOFFSETTO:+0100
TZNAME:CET
DTSTART:20191027T010000
END:STANDARD
END:VTIMEZONE
BEGIN:VEVENT
DTSTART;TZID=Europe/Berlin:20180510T100000
DTEND;TZID=Europe/Berlin:20180510T180000
DTSTAMP:20260423T022553
CREATED:20180317T135354Z
LAST-MODIFIED:20180317T135354Z
UID:3701-1525946400-1525975200@www.tennis-tsv-pfuhl.de
SUMMARY:Damen - SC Vöhringen
DESCRIPTION:[vc_row][vc_column width=&#8220;2/3&#8243;][vc_column_text][/vc_column_text][/vc_column][vc_column width=&#8220;1/3&#8243;][/vc_column][/vc_row]
URL:https://www.tennis-tsv-pfuhl.de/vereinskalender/damen-sc-voehringen/
LOCATION:Tennisabteilung TSV Pfuhl\, Steinhäulesweg 11\, Neu-Ulm\, Bayern\, 89233\, Deutschland
CATEGORIES:Turnier
ORGANIZER;CN="Tennisabteilung TSV Pfuhl":MAILTO:TSVPfuhl.Tennis@t-online.de
END:VEVENT
BEGIN:VEVENT
DTSTART;TZID=Europe/Berlin:20180510T100000
DTEND;TZID=Europe/Berlin:20180510T180000
DTSTAMP:20260423T022553
CREATED:20180317T141947Z
LAST-MODIFIED:20180317T141947Z
UID:3730-1525946400-1525975200@www.tennis-tsv-pfuhl.de
SUMMARY:Herren II - TTC Bad Wörishofen II
DESCRIPTION:[vc_row][vc_column width=&#8220;2/3&#8243;][vc_column_text][/vc_column_text][/vc_column][vc_column width=&#8220;1/3&#8243;][/vc_column][/vc_row]
URL:https://www.tennis-tsv-pfuhl.de/vereinskalender/herren-ii-ttc-bad-woerishofen-ii/
LOCATION:Tennisabteilung TSV Pfuhl\, Steinhäulesweg 11\, Neu-Ulm\, Bayern\, 89233\, Deutschland
CATEGORIES:Turnier
ORGANIZER;CN="Tennisabteilung TSV Pfuhl":MAILTO:TSVPfuhl.Tennis@t-online.de
END:VEVENT
END:VCALENDAR