BEGIN:VCALENDAR
VERSION:2.0
PRODID:-//TSV Pfuhl - Tennisabteilung - ECPv6.15.18//NONSGML v1.0//EN
CALSCALE:GREGORIAN
METHOD:PUBLISH
X-ORIGINAL-URL:https://www.tennis-tsv-pfuhl.de
X-WR-CALDESC:Veranstaltungen für TSV Pfuhl - Tennisabteilung
REFRESH-INTERVAL;VALUE=DURATION:PT1H
X-Robots-Tag:noindex
X-PUBLISHED-TTL:PT1H
BEGIN:VTIMEZONE
TZID:Europe/Berlin
BEGIN:DAYLIGHT
TZOFFSETFROM:+0100
TZOFFSETTO:+0200
TZNAME:CEST
DTSTART:20160327T010000
END:DAYLIGHT
BEGIN:STANDARD
TZOFFSETFROM:+0200
TZOFFSETTO:+0100
TZNAME:CET
DTSTART:20161030T010000
END:STANDARD
BEGIN:DAYLIGHT
TZOFFSETFROM:+0100
TZOFFSETTO:+0200
TZNAME:CEST
DTSTART:20170326T010000
END:DAYLIGHT
BEGIN:STANDARD
TZOFFSETFROM:+0200
TZOFFSETTO:+0100
TZNAME:CET
DTSTART:20171029T010000
END:STANDARD
BEGIN:DAYLIGHT
TZOFFSETFROM:+0100
TZOFFSETTO:+0200
TZNAME:CEST
DTSTART:20180325T010000
END:DAYLIGHT
BEGIN:STANDARD
TZOFFSETFROM:+0200
TZOFFSETTO:+0100
TZNAME:CET
DTSTART:20181028T010000
END:STANDARD
END:VTIMEZONE
BEGIN:VEVENT
DTSTART;TZID=Europe/Berlin:20171202T140000
DTEND;TZID=Europe/Berlin:20171203T200000
DTSTAMP:20260423T074223
CREATED:20171103T152157Z
LAST-MODIFIED:20171121T213811Z
UID:2971-1512223200-1512331200@www.tennis-tsv-pfuhl.de
SUMMARY:Weihnachtsmarkt
DESCRIPTION:[vc_row][vc_column width=&#8220;2/3&#8243;][vc_column_text] \nWir laden alle herzlich ein! Alle Informationen können Sie dem beigefügten Flyer entnehmen. Wir laden alle herzlich ein! Alle Informationen können Sie dem beigefügten Flyer entnehmen. Wir laden alle herzlich ein! Alle Informationen können Sie dem beigefügten Flyer entnehmen. Wir laden alle herzlich ein! Alle Informationen können Sie dem beigefügten Flyer entnehmen. Wir laden alle herzlich ein! Alle Informationen können Sie dem beigefügten Flyer entnehmen. Wir laden alle herzlich ein! Alle Informationen können Sie dem beigefügten Flyer entnehmen. Wir laden alle herzlich ein! Alle Informationen können Sie dem beigefügten Flyer entnehmen. Wir laden alle herzlich ein! Alle Informationen können Sie dem beigefügten Flyer entnehmen. Wir laden alle herzlich ein! Alle Informationen können Sie dem beigefügten Flyer entnehmen. Wir laden alle herzlich ein! Alle Informationen können Sie dem beigefügten Flyer entnehmen. Wir laden alle herzlich ein! Alle Informationen können Sie dem beigefügten Flyer entnehmen. \n[/vc_column_text][/vc_column][vc_column width=&#8220;1/3&#8243;][vc_single_image image=&#8220;3333&#8243; img_size=&#8220;medium&#8220; alignment=&#8220;center&#8220; style=&#8220;vc_box_shadow&#8220; onclick=&#8220;link_image&#8220;][/vc_column][/vc_row]
URL:https://www.tennis-tsv-pfuhl.de/vereinskalender/weihnachtsmarkt/
LOCATION:Tennisabteilung TSV Pfuhl\, Steinhäulesweg 11\, Neu-Ulm\, Bayern\, 89233\, Deutschland
CATEGORIES:Veranstaltung
ORGANIZER;CN="Tennisabteilung TSV Pfuhl":MAILTO:TSVPfuhl.Tennis@t-online.de
END:VEVENT
END:VCALENDAR